BEGIN:VCALENDAR
VERSION:2.0
PRODID:-//eventon.com NONSGML v1.0//EN
CALSCALE:GREGORIAN
METHOD:PUBLISH
BEGIN:VEVENT
UID:69e5f3cb4bfb4
DTSTAMP:20260420T093715Z
DTSTART:20260328T230000Z
DTEND:20260329T020000Z
LOCATION:Rec Center - Pat Neal Room - Library - Kitchen
SUMMARY:FLWC Pasta Dinner
DESCRIPTION:FLWC Pasta Dinner\nhttps://lwcha.org/events/flwc-presents-toys-
 of-christmas-past/
URL:https://lwcha.org/events/flwc-presents-toys-of-christmas-past/
END:VEVENT
END:VCALENDAR