BEGIN:VCALENDAR
VERSION:2.0
PRODID:-//eventon.com NONSGML v1.0//EN
CALSCALE:GREGORIAN
METHOD:PUBLISH
BEGIN:VEVENT
UID:69e5f39ed58c8
DTSTAMP:20260420T093630Z
DTSTART:20260303T190000Z
DTEND:20260304T000000Z
LOCATION:Library and Kitchen
SUMMARY:PEO Luncheon
DESCRIPTION:PEO Luncheon\nhttps://lwcha.org/events/peo-luncheon/
URL:https://lwcha.org/events/peo-luncheon/
END:VEVENT
END:VCALENDAR